BEGIN:VCALENDAR
VERSION:2.0
PRODID:-//Tukios.com/
BEGIN:VEVENT
UID:abc9b1ce-b6e3-4308-8043-9289ba23f9b4@www.tomblinsonfuneralhome.com
DTSTAMP:20260420T223220Z
DTSTART:20260427T200000Z
DTEND:20260428T000000Z
SUMMARY:Visitation
DESCRIPTION:
URL:https://www.tomblinsonfuneralhome.com/obituaries/mckinley-delong
LOCATION: 325 1st St  Henderson KY 42420
GEO:37.8385887;-87.5893725
END:VEVENT
END:VCALENDAR