BEGIN:VCALENDAR
VERSION:2.0
PRODID:-//Tukios.com/
BEGIN:VEVENT
UID:32bef0f8-f865-4f4f-a66f-eb823cc86b0d@www.tomblinsonfuneralhome.com
DTSTAMP:20260420T223546Z
DTSTART:20260428T150000Z
DTEND:20260428T180000Z
SUMMARY:Visitation
DESCRIPTION:
URL:https://www.tomblinsonfuneralhome.com/obituaries/mckinley-delong
LOCATION: 325 1st St  Henderson KY 42420
GEO:37.8385887;-87.5893725
END:VEVENT
END:VCALENDAR