BEGIN:VCALENDAR
VERSION:2.0
PRODID:-//Tukios.com/
BEGIN:VEVENT
UID:77d8c8a2-853b-4144-a46b-6eb121f11270@www.tomblinsonfuneralhome.com
DTSTAMP:20260420T223743Z
DTSTART:20260428T180000Z
DTEND:20260428T190000Z
SUMMARY:Funeral Service
DESCRIPTION:
URL:https://www.tomblinsonfuneralhome.com/obituaries/mckinley-delong
LOCATION: 325 1st St  Henderson KY 42420
GEO:37.8385887;-87.5893725
END:VEVENT
END:VCALENDAR