BEGIN:VCALENDAR
VERSION:2.0
PRODID:-//Tukios.com/
BEGIN:VEVENT
UID:b74a1f6a-7c16-40ba-983e-ba321bc001e4@www.tomblinsonfuneralhome.com
DTSTAMP:20260425T024835Z
DTSTART:20260429T150000Z
DTEND:20260429T190000Z
SUMMARY:Visitation
DESCRIPTION:
URL:https://www.tomblinsonfuneralhome.com/obituaries/thomas-wedding
LOCATION: 325 1st St  Henderson KY 42420
GEO:37.8385887;-87.5893725
END:VEVENT
END:VCALENDAR