BEGIN:VCALENDAR
VERSION:2.0
PRODID:-//Tukios.com/
BEGIN:VEVENT
UID:94746298-b7ae-48e3-9668-7d15fa248763@www.tomblinsonfuneralhome.com
DTSTAMP:20260425T024727Z
DTSTART:20260429T190000Z
DTEND:20260429T200000Z
SUMMARY:Funeral Service
DESCRIPTION:
URL:https://www.tomblinsonfuneralhome.com/obituaries/thomas-wedding
LOCATION: 325 1st St  Henderson KY 42420
GEO:37.8385887;-87.5893725
END:VEVENT
END:VCALENDAR