BEGIN:VCALENDAR
VERSION:2.0
PRODID:-//Tukios.com/
BEGIN:VEVENT
UID:9e209ec4-0666-4ddb-8363-3fffad730b62@www.tomblinsonfuneralhome.com
DTSTAMP:20260424T202841Z
DTSTART:20260428T210000Z
DTEND:20260429T010000Z
SUMMARY:Visitation
DESCRIPTION:
URL:https://www.tomblinsonfuneralhome.com/obituaries/wendy-dixon
LOCATION: 325 1st St  Henderson KY 42420
GEO:37.8385887;-87.5893725
END:VEVENT
END:VCALENDAR