BEGIN:VCALENDAR
VERSION:2.0
PRODID:-//Tukios.com/
BEGIN:VEVENT
UID:d61a6ef2-60af-49fc-8a9c-8f2526a153f0@www.tomblinsonfuneralhome.com
DTSTAMP:20260424T202726Z
DTSTART:20260429T140000Z
DTEND:20260429T150000Z
SUMMARY:Visitation
DESCRIPTION:
URL:https://www.tomblinsonfuneralhome.com/obituaries/wendy-dixon
LOCATION: 325 1st St  Henderson KY 42420
GEO:37.8385887;-87.5893725
END:VEVENT
END:VCALENDAR