BEGIN:VCALENDAR
VERSION:2.0
PRODID:-//Tukios.com/
BEGIN:VEVENT
UID:6f1a04ca-2084-4123-9da7-13e0d52f358e@www.tomblinsonfuneralhome.com
DTSTAMP:20260424T202932Z
DTSTART:20260429
SUMMARY:Burial
DESCRIPTION:
URL:https://www.tomblinsonfuneralhome.com/obituaries/wendy-dixon
LOCATION:Shady Grove Cemetery Hwy 41A  Sebree KY 42455
GEO:37.6072947;-87.6562286
END:VEVENT
END:VCALENDAR